BEGIN:VCALENDAR
VERSION:2.0
CALSCALE:GREGORIAN
BEGIN:VEVENT
URL:https://www.learndesk.us/class/5276099632168960/mastering-palo-alto-networks?ref=outlook-calendar
SUMMARY:Mastering Palo Alto Networks
DTSTART;TZID=America/Los_Angeles:20260422T190000
DTEND;TZID=America/Los_Angeles:20260422T200000
LOCATION:https://www.learndesk.us/class/5276099632168960/mastering-palo-alto-networks?ref=outlook-calendar
DESCRIPTION: 
Network security is not a choice; it’s a must Palo Alto Networks is one of the top firewall platform choices when it comes to protecting and securing all your critical on-premise and cloud infrastructures. That said, it’s highly probable that you as a network security engineer are or will be managing or deploying one in your own or your customers’ environments. This training guide will help you fully understand what tools, features, and options your Palo Alto firewalls can offer to protect and enhance visibility in your network traffic. It has been developed by someone who understands that learning every possible aspect of a technology platform can consume precious time.
 It will get you from zero to hero in no time, so you can take full advantage of all of the features that the Palo Alto firewall platform has to offer. From initial policy configurations to configuring Nat and security rules to performing Active-Active highly available clusters, you’ll learn all there is required...

https://www.learndesk.us/class/5276099632168960/mastering-palo-alto-networks?ref=outlook-calendar
STATUS:CONFIRMED
SEQUENCE:3
BEGIN:VALARM
TRIGGER:-PT10M
DESCRIPTION:Class Reminder
ACTION:DISPLAY
END:VALARM
END:VEVENT
END:VCALENDAR