BEGIN:VCALENDAR
VERSION:2.0
CALSCALE:GREGORIAN
BEGIN:VEVENT
URL:https://www.learndesk.us/class/5272393545154560/lesson/f762a91c6da8a911cf1eb2e40eec2632?ref=outlook-calendar
SUMMARY:Implicit and Explicit Waits in Selenium
DTSTART;TZID=America/Los_Angeles:20260422T190000
DTEND;TZID=America/Los_Angeles:20260422T200000
LOCATION:https://www.learndesk.us/class/5272393545154560/lesson/f762a91c6da8a911cf1eb2e40eec2632?ref=outlook-calendar
DESCRIPTION: https://www.learndesk.us/class/5272393545154560/lesson/f762a91c6da8a911cf1eb2e40eec2632?ref=outlook-calendar
STATUS:CONFIRMED
SEQUENCE:3
BEGIN:VALARM
TRIGGER:-PT10M
DESCRIPTION:Class Reminder
ACTION:DISPLAY
END:VALARM
END:VEVENT
END:VCALENDAR