BEGIN:VCALENDAR
VERSION:2.0
CALSCALE:GREGORIAN
BEGIN:VEVENT
URL:https://www.learndesk.us/class/5272393545154560/lesson/f2f35ba69bfa2f79897590f0a3c8de3c?ref=outlook-calendar
SUMMARY:Web Scraping with Python
DTSTART;TZID=America/Los_Angeles:20260422T190000
DTEND;TZID=America/Los_Angeles:20260422T200000
LOCATION:https://www.learndesk.us/class/5272393545154560/lesson/f2f35ba69bfa2f79897590f0a3c8de3c?ref=outlook-calendar
DESCRIPTION: 
In this section, we’ll do Web Scraping with Pythons.

Understanding HTML with BeautifulSoup
More complex HTML parsing
Structuring our parsing program better
Splitting HTML locators out of our Python class
Understanding HTML with the browser
Scraping our first website with Python
Milestone Project 3: A Quote Scraper
Quotes Project 2: Structuring a scraping app in Python
Quotes Project 3: Getting our locators
Quotes Project 4: Crafting our quote parser
Quotes Project 5: The quotes page
Quotes Project 6: Recap of the project
Milestone Project 4: A Book Scraper + application
Books Project 2: Recap of HTML locators
Books Project 3: Creating locators in Python
Books Project 4: Creating our page
Books Project 5: Creating our book parser
Books Project 6: Writing our app file
Books Project 7: Sorting the books
Books Project 8: Constructing our menu
ASIDE: The best way to write user menus
Books Project 9: Getting multiple pages
Books Project 10: Multiple pages in Python
Books Project 11:...

https://www.learndesk.us/class/5272393545154560/lesson/f2f35ba69bfa2f79897590f0a3c8de3c?ref=outlook-calendar
STATUS:CONFIRMED
SEQUENCE:3
BEGIN:VALARM
TRIGGER:-PT10M
DESCRIPTION:Class Reminder
ACTION:DISPLAY
END:VALARM
END:VEVENT
END:VCALENDAR