BEGIN:VCALENDAR
VERSION:2.0
CALSCALE:GREGORIAN
BEGIN:VEVENT
URL:https://www.learndesk.us/class/5272393545154560/lesson/f14a6186c4408b30fd05d230756c0c33?ref=outlook-calendar
SUMMARY:Files in Python
DTSTART;TZID=America/Los_Angeles:20260422T190000
DTEND;TZID=America/Los_Angeles:20260422T200000
LOCATION:https://www.learndesk.us/class/5272393545154560/lesson/f14a6186c4408b30fd05d230756c0c33?ref=outlook-calendar
DESCRIPTION: 
In this section, we’ll learn about Files in Python.

Files in Python
Python Exercise: copying files
CSV files with Python
JSON files with Python
Using the with syntax in Python
Importing our own files
Python relative imports: children
Python relative imports: parents
Import errors and running as a Python script



https://www.learndesk.us/class/5272393545154560/lesson/f14a6186c4408b30fd05d230756c0c33?ref=outlook-calendar
STATUS:CONFIRMED
SEQUENCE:3
BEGIN:VALARM
TRIGGER:-PT10M
DESCRIPTION:Class Reminder
ACTION:DISPLAY
END:VALARM
END:VEVENT
END:VCALENDAR