BEGIN:VCALENDAR
VERSION:2.0
CALSCALE:GREGORIAN
BEGIN:VEVENT
URL:https://www.learndesk.us/class/5272393545154560/lesson/e6ba1685602edc7ce1a11e3124bf3707?ref=outlook-calendar
SUMMARY:Rendering forms with Flask and Python
DTSTART;TZID=America/Los_Angeles:20260422T190000
DTEND;TZID=America/Los_Angeles:20260422T200000
LOCATION:https://www.learndesk.us/class/5272393545154560/lesson/e6ba1685602edc7ce1a11e3124bf3707?ref=outlook-calendar
DESCRIPTION: https://www.learndesk.us/class/5272393545154560/lesson/e6ba1685602edc7ce1a11e3124bf3707?ref=outlook-calendar
STATUS:CONFIRMED
SEQUENCE:3
BEGIN:VALARM
TRIGGER:-PT10M
DESCRIPTION:Class Reminder
ACTION:DISPLAY
END:VALARM
END:VEVENT
END:VCALENDAR