BEGIN:VCALENDAR
VERSION:2.0
CALSCALE:GREGORIAN
BEGIN:VEVENT
URL:https://www.learndesk.us/class/5272393545154560/lesson/e4965c31acb844c288e728fa37066fdb?ref=outlook-calendar
SUMMARY:Milestone Project 1
DTSTART;TZID=America/Los_Angeles:20260422T190000
DTEND;TZID=America/Los_Angeles:20260422T200000
LOCATION:https://www.learndesk.us/class/5272393545154560/lesson/e4965c31acb844c288e728fa37066fdb?ref=outlook-calendar
DESCRIPTION: 
This section will take you to Milestone Project 1.

Installing Python in your computer
Installing PyCharm in your computer
Creating our first PyCharm project
Setting up PyCharm font and display settings
Coding our application's menu in Python
Adding new movies to our application
Showing the user their movies
Finding movies and retrieving their details



https://www.learndesk.us/class/5272393545154560/lesson/e4965c31acb844c288e728fa37066fdb?ref=outlook-calendar
STATUS:CONFIRMED
SEQUENCE:3
BEGIN:VALARM
TRIGGER:-PT10M
DESCRIPTION:Class Reminder
ACTION:DISPLAY
END:VALARM
END:VEVENT
END:VCALENDAR