BEGIN:VCALENDAR
VERSION:2.0
CALSCALE:GREGORIAN
BEGIN:VEVENT
URL:https://www.learndesk.us/class/5272393545154560/lesson/cc8ce6cbb0f770a5278393d0f566a36a?ref=outlook-calendar
SUMMARY:Python on the Console and Managing Project Dependencies
DTSTART;TZID=America/Los_Angeles:20260422T190000
DTEND;TZID=America/Los_Angeles:20260422T200000
LOCATION:https://www.learndesk.us/class/5272393545154560/lesson/cc8ce6cbb0f770a5278393d0f566a36a?ref=outlook-calendar
DESCRIPTION: 
In this section, we’ll learn about Python on the console and managing project dependencies.

Browser Automation with Selenium
Processes and threads
The Python GIL
Using Python concurrent.futures: the ThreadPoolExecutor
Don't kill threads
Multiprocessing in Python



https://www.learndesk.us/class/5272393545154560/lesson/cc8ce6cbb0f770a5278393d0f566a36a?ref=outlook-calendar
STATUS:CONFIRMED
SEQUENCE:3
BEGIN:VALARM
TRIGGER:-PT10M
DESCRIPTION:Class Reminder
ACTION:DISPLAY
END:VALARM
END:VEVENT
END:VCALENDAR