BEGIN:VCALENDAR
VERSION:2.0
CALSCALE:GREGORIAN
BEGIN:VEVENT
URL:https://www.learndesk.us/class/5272393545154560/lesson/cc349e4b0f01c011d5271f3a7bfe49ad?ref=outlook-calendar
SUMMARY:Using Python Generators Instead of Threads
DTSTART;TZID=America/Los_Angeles:20260422T190000
DTEND;TZID=America/Los_Angeles:20260422T200000
LOCATION:https://www.learndesk.us/class/5272393545154560/lesson/cc349e4b0f01c011d5271f3a7bfe49ad?ref=outlook-calendar
DESCRIPTION: Asynchronous Python Development: Using Python generators instead of threads

https://www.learndesk.us/class/5272393545154560/lesson/cc349e4b0f01c011d5271f3a7bfe49ad?ref=outlook-calendar
STATUS:CONFIRMED
SEQUENCE:3
BEGIN:VALARM
TRIGGER:-PT10M
DESCRIPTION:Class Reminder
ACTION:DISPLAY
END:VALARM
END:VEVENT
END:VCALENDAR