BEGIN:VCALENDAR
VERSION:2.0
CALSCALE:GREGORIAN
BEGIN:VEVENT
URL:https://www.learndesk.us/class/5272393545154560/lesson/c15174f1e46db922054c6adab3dedc9b?ref=outlook-calendar
SUMMARY:Watch these Talks for More Explanations and Examples
DTSTART;TZID=America/Los_Angeles:20260422T190000
DTEND;TZID=America/Los_Angeles:20260422T200000
LOCATION:https://www.learndesk.us/class/5272393545154560/lesson/c15174f1e46db922054c6adab3dedc9b?ref=outlook-calendar
DESCRIPTION: Asynchronous Python Development: Watch these talks for more explanations and examples.

https://www.learndesk.us/class/5272393545154560/lesson/c15174f1e46db922054c6adab3dedc9b?ref=outlook-calendar
STATUS:CONFIRMED
SEQUENCE:3
BEGIN:VALARM
TRIGGER:-PT10M
DESCRIPTION:Class Reminder
ACTION:DISPLAY
END:VALARM
END:VEVENT
END:VCALENDAR