BEGIN:VCALENDAR
VERSION:2.0
CALSCALE:GREGORIAN
BEGIN:VEVENT
URL:https://www.learndesk.us/class/5272393545154560/lesson/b0cde8944969fbd83e058c438971226e?ref=outlook-calendar
SUMMARY:Python Libraries
DTSTART;TZID=America/Los_Angeles:20260422T190000
DTEND;TZID=America/Los_Angeles:20260422T200000
LOCATION:https://www.learndesk.us/class/5272393545154560/lesson/b0cde8944969fbd83e058c438971226e?ref=outlook-calendar
DESCRIPTION: 
In this section, we’ll learn about Python libraries.

Python libraries overview
Using pylint
Using yapf
Sending e-mails with smtplib
Sending e-mails with smtplib
Creating a re-usable Mailgun library
Sneak peek: my IDE setup

 


https://www.learndesk.us/class/5272393545154560/lesson/b0cde8944969fbd83e058c438971226e?ref=outlook-calendar
STATUS:CONFIRMED
SEQUENCE:3
BEGIN:VALARM
TRIGGER:-PT10M
DESCRIPTION:Class Reminder
ACTION:DISPLAY
END:VALARM
END:VEVENT
END:VCALENDAR