BEGIN:VCALENDAR
VERSION:2.0
CALSCALE:GREGORIAN
BEGIN:VEVENT
URL:https://www.learndesk.us/class/5272393545154560/lesson/ad80367c4e8bafac389288954d639232?ref=outlook-calendar
SUMMARY:Our First Single-Threaded Task Scheduler in Python
DTSTART;TZID=America/Los_Angeles:20260422T190000
DTEND;TZID=America/Los_Angeles:20260422T200000
LOCATION:https://www.learndesk.us/class/5272393545154560/lesson/ad80367c4e8bafac389288954d639232?ref=outlook-calendar
DESCRIPTION: Asynchronous Python Development: Our first single-threaded task scheduler in Python

https://www.learndesk.us/class/5272393545154560/lesson/ad80367c4e8bafac389288954d639232?ref=outlook-calendar
STATUS:CONFIRMED
SEQUENCE:3
BEGIN:VALARM
TRIGGER:-PT10M
DESCRIPTION:Class Reminder
ACTION:DISPLAY
END:VALARM
END:VEVENT
END:VCALENDAR