BEGIN:VCALENDAR
VERSION:2.0
CALSCALE:GREGORIAN
BEGIN:VEVENT
URL:https://www.learndesk.us/class/5272393545154560/lesson/ac5272d707e8d6227c6ba8fdbf8393b8?ref=outlook-calendar
SUMMARY:Welcome to this Course
DTSTART;TZID=America/Los_Angeles:20260422T190000
DTEND;TZID=America/Los_Angeles:20260422T200000
LOCATION:https://www.learndesk.us/class/5272393545154560/lesson/ac5272d707e8d6227c6ba8fdbf8393b8?ref=outlook-calendar
DESCRIPTION: The code bundle for this course is available at https://github.com/PacktPublishing/The-Complete-Python-Course

https://www.learndesk.us/class/5272393545154560/lesson/ac5272d707e8d6227c6ba8fdbf8393b8?ref=outlook-calendar
STATUS:CONFIRMED
SEQUENCE:3
BEGIN:VALARM
TRIGGER:-PT10M
DESCRIPTION:Class Reminder
ACTION:DISPLAY
END:VALARM
END:VEVENT
END:VCALENDAR