BEGIN:VCALENDAR
VERSION:2.0
CALSCALE:GREGORIAN
BEGIN:VEVENT
URL:https://www.learndesk.us/class/5272393545154560/lesson/9a4f784b603cf926ad958b3ba726531a?ref=outlook-calendar
SUMMARY:Unit Testing with Python
DTSTART;TZID=America/Los_Angeles:20260422T190000
DTEND;TZID=America/Los_Angeles:20260422T200000
LOCATION:https://www.learndesk.us/class/5272393545154560/lesson/9a4f784b603cf926ad958b3ba726531a?ref=outlook-calendar
DESCRIPTION: 
In this section, we’ll learn about Unit testing with Python.

Introduction to this section
Testing functions
Testing for errors
Testing our multiplication function
Writing a printer class for testing
Testing classes
More Printer tests
Testing external libraries
Conclusion of this section



https://www.learndesk.us/class/5272393545154560/lesson/9a4f784b603cf926ad958b3ba726531a?ref=outlook-calendar
STATUS:CONFIRMED
SEQUENCE:3
BEGIN:VALARM
TRIGGER:-PT10M
DESCRIPTION:Class Reminder
ACTION:DISPLAY
END:VALARM
END:VEVENT
END:VCALENDAR