BEGIN:VCALENDAR
VERSION:2.0
CALSCALE:GREGORIAN
BEGIN:VEVENT
URL:https://www.learndesk.us/class/5272393545154560/lesson/9a258ba1cbf8231bea112a6e1278621c?ref=outlook-calendar
SUMMARY:Python Reference/Refresher
DTSTART;TZID=America/Los_Angeles:20260422T190000
DTEND;TZID=America/Los_Angeles:20260422T200000
LOCATION:https://www.learndesk.us/class/5272393545154560/lesson/9a258ba1cbf8231bea112a6e1278621c?ref=outlook-calendar
DESCRIPTION: 
In this section, we’ll learn about Python Reference / Refresher.

Variables in Python
String formatting in Python
Getting user input
Lists, tuples, and sets
Advanced set operations
Booleans in Python
If statements in Python
The in keyword
If statements with the 'in' keyword
Loops in Python
List comprehensions
Dictionaries
Destructuring variables
Functions in Python
Function arguments and parameters
Default parameter values
Functions returning values
Lambda functions in Python
Dictionary comprehensions
Unpacking arguments
Unpacking keyword arguments
Object-Oriented Programming in Python
Magic methods: __str__ and __repr__
Class methods and static methods
Class inheritance
Class composition
Type hinting
How imports work in Python
Relative imports in Python
Errors in Python
Custom error classes
First-class functions
Simple decorators in Python
The 'at' syntax for decorators
Decorating functions with parameters
Decorators with parameters
Mutability in Python
Mutable default parameters...

https://www.learndesk.us/class/5272393545154560/lesson/9a258ba1cbf8231bea112a6e1278621c?ref=outlook-calendar
STATUS:CONFIRMED
SEQUENCE:3
BEGIN:VALARM
TRIGGER:-PT10M
DESCRIPTION:Class Reminder
ACTION:DISPLAY
END:VALARM
END:VEVENT
END:VCALENDAR