BEGIN:VCALENDAR
VERSION:2.0
CALSCALE:GREGORIAN
BEGIN:VEVENT
URL:https://www.learndesk.us/class/5272393545154560/lesson/855eefb9e6ed7609041df0d8906dedce?ref=outlook-calendar
SUMMARY:Using Frames for Different Layouts
DTSTART;TZID=America/Los_Angeles:20260423T190000
DTEND;TZID=America/Los_Angeles:20260423T200000
LOCATION:https://www.learndesk.us/class/5272393545154560/lesson/855eefb9e6ed7609041df0d8906dedce?ref=outlook-calendar
DESCRIPTION: https://www.learndesk.us/class/5272393545154560/lesson/855eefb9e6ed7609041df0d8906dedce?ref=outlook-calendar
STATUS:CONFIRMED
SEQUENCE:3
BEGIN:VALARM
TRIGGER:-PT10M
DESCRIPTION:Class Reminder
ACTION:DISPLAY
END:VALARM
END:VEVENT
END:VCALENDAR