BEGIN:VCALENDAR
VERSION:2.0
CALSCALE:GREGORIAN
BEGIN:VEVENT
URL:https://www.learndesk.us/class/5272393545154560/lesson/84da282ebcc60681337ba420a9ad81e3?ref=outlook-calendar
SUMMARY:Web Development with Flask
DTSTART;TZID=America/Los_Angeles:20260422T190000
DTEND;TZID=America/Los_Angeles:20260422T200000
LOCATION:https://www.learndesk.us/class/5272393545154560/lesson/84da282ebcc60681337ba420a9ad81e3?ref=outlook-calendar
DESCRIPTION: 
In this section, we’ll learn about Web Development with Flask.

Setting up our project with Pipenv
Our first Flask endpoint
Returning information with Flask and Pythons
Rendering HTML with Flask and Python
Error pages and Jinja2 inheritance
Rendering forms with Flask and Python
Accessing POST form data with Flask
Putting our form in a single endpoint
Using Jinja2 for loops to create a nicer homepage
Adding navigation to our website



https://www.learndesk.us/class/5272393545154560/lesson/84da282ebcc60681337ba420a9ad81e3?ref=outlook-calendar
STATUS:CONFIRMED
SEQUENCE:3
BEGIN:VALARM
TRIGGER:-PT10M
DESCRIPTION:Class Reminder
ACTION:DISPLAY
END:VALARM
END:VEVENT
END:VCALENDAR