BEGIN:VCALENDAR
VERSION:2.0
CALSCALE:GREGORIAN
BEGIN:VEVENT
URL:https://www.learndesk.us/class/5272393545154560/lesson/75685f1c41dd9dec018555810c76d409?ref=outlook-calendar
SUMMARY:Intro to Python
DTSTART;TZID=America/Los_Angeles:20260422T190000
DTEND;TZID=America/Los_Angeles:20260422T200000
LOCATION:https://www.learndesk.us/class/5272393545154560/lesson/75685f1c41dd9dec018555810c76d409?ref=outlook-calendar
DESCRIPTION: 
This section will give you a brief introduction about the course.

Welcome to this course
Overview of the course curriculum
Our Python coding environment
Writing our first code, Variables and printing
Numbers in Python
Calculating the remainder of a division
Python strings
Python string formatting
Getting user input in Python
Booleans and comparisons in Python
and & or in Python
Lists in Python
Tuples in Python
Sets in Python
Advanced set operations
Python dictionaries
Length and sum
Joining a list



https://www.learndesk.us/class/5272393545154560/lesson/75685f1c41dd9dec018555810c76d409?ref=outlook-calendar
STATUS:CONFIRMED
SEQUENCE:3
BEGIN:VALARM
TRIGGER:-PT10M
DESCRIPTION:Class Reminder
ACTION:DISPLAY
END:VALARM
END:VEVENT
END:VCALENDAR