BEGIN:VCALENDAR
VERSION:2.0
CALSCALE:GREGORIAN
BEGIN:VEVENT
URL:https://www.learndesk.us/class/5272393545154560/lesson/6ba3147f4b58029a572c0ec9796b0b8b?ref=outlook-calendar
SUMMARY:Advanced built-in Functions in Python
DTSTART;TZID=America/Los_Angeles:20260422T190000
DTEND;TZID=America/Los_Angeles:20260422T200000
LOCATION:https://www.learndesk.us/class/5272393545154560/lesson/6ba3147f4b58029a572c0ec9796b0b8b?ref=outlook-calendar
DESCRIPTION: 
In this section, we’ll learn Advanced built-in functions in Python.

Generators in Python
Python generator classes and iterators
Iterables in Python
The filter() function in Python
The map() function in Python
any() and all() in Python
The enumerate() function



https://www.learndesk.us/class/5272393545154560/lesson/6ba3147f4b58029a572c0ec9796b0b8b?ref=outlook-calendar
STATUS:CONFIRMED
SEQUENCE:3
BEGIN:VALARM
TRIGGER:-PT10M
DESCRIPTION:Class Reminder
ACTION:DISPLAY
END:VALARM
END:VEVENT
END:VCALENDAR