BEGIN:VCALENDAR
VERSION:2.0
CALSCALE:GREGORIAN
BEGIN:VEVENT
URL:https://www.learndesk.us/class/5272393545154560/lesson/5f9ccab81359e934afeb19664a0cf22b?ref=outlook-calendar
SUMMARY:Advanced Python Development
DTSTART;TZID=America/Los_Angeles:20260422T190000
DTEND;TZID=America/Los_Angeles:20260422T200000
LOCATION:https://www.learndesk.us/class/5272393545154560/lesson/5f9ccab81359e934afeb19664a0cf22b?ref=outlook-calendar
DESCRIPTION: 
In this section, we’ll learn Advanced Python Development.

Mutability in Python
Argument mutability in Python
Default values for parameters
Mutable default arguments (bad idea)
Argument unpacking in Python
Queues in Python
Some interesting Python collections
Timezones
Dates and time in Python
Timing your code with Python
Regular expressions
Regex examples
Regex in Python
Introduction to logging in Python
Logging to a file and other features



https://www.learndesk.us/class/5272393545154560/lesson/5f9ccab81359e934afeb19664a0cf22b?ref=outlook-calendar
STATUS:CONFIRMED
SEQUENCE:3
BEGIN:VALARM
TRIGGER:-PT10M
DESCRIPTION:Class Reminder
ACTION:DISPLAY
END:VALARM
END:VEVENT
END:VCALENDAR