BEGIN:VCALENDAR
VERSION:2.0
CALSCALE:GREGORIAN
BEGIN:VEVENT
URL:https://www.learndesk.us/class/5272393545154560/lesson/5a5b733c5f0a255feadc02fb9110eb9d?ref=outlook-calendar
SUMMARY:Browser Automation with Selenium
DTSTART;TZID=America/Los_Angeles:20260422T190000
DTEND;TZID=America/Los_Angeles:20260422T200000
LOCATION:https://www.learndesk.us/class/5272393545154560/lesson/5a5b733c5f0a255feadc02fb9110eb9d?ref=outlook-calendar
DESCRIPTION: 
In this section, we’ll learn about Browser Automation with Selenium.

Introduction to this section
Review of our quotes scraping code
Downloading chromedriver
Using Chrome in our scraping code
Our new page locators
Interacting with dropdowns
Selecting tags
Searching for quotes
Encapsulating logic more simply
Adding some error handling
Implicit and explicit waits in Selenium
Adding waits to our program code



https://www.learndesk.us/class/5272393545154560/lesson/5a5b733c5f0a255feadc02fb9110eb9d?ref=outlook-calendar
STATUS:CONFIRMED
SEQUENCE:3
BEGIN:VALARM
TRIGGER:-PT10M
DESCRIPTION:Class Reminder
ACTION:DISPLAY
END:VALARM
END:VEVENT
END:VCALENDAR