BEGIN:VCALENDAR
VERSION:2.0
CALSCALE:GREGORIAN
BEGIN:VEVENT
URL:https://www.learndesk.us/class/5272393545154560/lesson/580b80fc4221d20b7a014569229f0cf0?ref=outlook-calendar
SUMMARY:Algorithms and Data Structures
DTSTART;TZID=America/Los_Angeles:20260422T190000
DTEND;TZID=America/Los_Angeles:20260422T200000
LOCATION:https://www.learndesk.us/class/5272393545154560/lesson/580b80fc4221d20b7a014569229f0cf0?ref=outlook-calendar
DESCRIPTION: 
In this section, we’ll learn about Algorithms and Data Structures.

Presentation: queues, stacks, and complexity
Presentation: binary search
Presentation: binary trees
Presentation: traversal of binary trees
Presentation: adding elements to a binary tree
Adding elements to a binary tree in Python
Recursion and inorder traversal in Python
Finding nodes in a tree with Python
How do you delete nodes from a binary tree?
Deleting nodes in code with Python
Deleting nodes with two children in code
Testing our binary tree



https://www.learndesk.us/class/5272393545154560/lesson/580b80fc4221d20b7a014569229f0cf0?ref=outlook-calendar
STATUS:CONFIRMED
SEQUENCE:3
BEGIN:VALARM
TRIGGER:-PT10M
DESCRIPTION:Class Reminder
ACTION:DISPLAY
END:VALARM
END:VEVENT
END:VCALENDAR