BEGIN:VCALENDAR
VERSION:2.0
CALSCALE:GREGORIAN
BEGIN:VEVENT
URL:https://www.learndesk.us/class/5272393545154560/lesson/5588d901e1eab845ce04a5706504a99a?ref=outlook-calendar
SUMMARY:Decorators in Python
DTSTART;TZID=America/Los_Angeles:20260422T190000
DTEND;TZID=America/Los_Angeles:20260422T200000
LOCATION:https://www.learndesk.us/class/5272393545154560/lesson/5588d901e1eab845ce04a5706504a99a?ref=outlook-calendar
DESCRIPTION: 
In this section, we’ll learn about Decorators in Python.

A simple decorator in Python
Using a @syntax
Functools wraps in Python
Decorating functions with parameters
Decorators with parameters
Functions that accept multiple arguments
Generic decorators for any function



https://www.learndesk.us/class/5272393545154560/lesson/5588d901e1eab845ce04a5706504a99a?ref=outlook-calendar
STATUS:CONFIRMED
SEQUENCE:3
BEGIN:VALARM
TRIGGER:-PT10M
DESCRIPTION:Class Reminder
ACTION:DISPLAY
END:VALARM
END:VEVENT
END:VCALENDAR