BEGIN:VCALENDAR
VERSION:2.0
CALSCALE:GREGORIAN
BEGIN:VEVENT
URL:https://www.learndesk.us/class/5272393545154560/lesson/4a24ecc9619f355cffc48c4b32fd6ba5?ref=outlook-calendar
SUMMARY:Python Fundamentals
DTSTART;TZID=America/Los_Angeles:20260422T190000
DTEND;TZID=America/Los_Angeles:20260422T200000
LOCATION:https://www.learndesk.us/class/5272393545154560/lesson/4a24ecc9619f355cffc48c4b32fd6ba5?ref=outlook-calendar
DESCRIPTION: 
This section will help you to learn to Setup.

If statements in Python
While loops in Python
For loops in Python
Destructuring syntax
Iterating over dictionaries
Break and continue
The else keyword with loops
Finding prime numbers with for loops
List slicing in Python
List comprehension in Python
Comprehensions with conditionals
Set and dictionary comprehensions
The zip function
Functions in Python
Arguments and parameters
Functions and return values in Python
Default parameter values
Lambda functions in Python
First class and higher order functions



https://www.learndesk.us/class/5272393545154560/lesson/4a24ecc9619f355cffc48c4b32fd6ba5?ref=outlook-calendar
STATUS:CONFIRMED
SEQUENCE:3
BEGIN:VALARM
TRIGGER:-PT10M
DESCRIPTION:Class Reminder
ACTION:DISPLAY
END:VALARM
END:VEVENT
END:VCALENDAR