BEGIN:VCALENDAR
VERSION:2.0
CALSCALE:GREGORIAN
BEGIN:VEVENT
URL:https://www.learndesk.us/class/5272393545154560/lesson/46f167db6a1bf2a60f66f1296b5070bb?ref=outlook-calendar
SUMMARY:Databases in Python and Milestone Project 2
DTSTART;TZID=America/Los_Angeles:20260422T190000
DTEND;TZID=America/Los_Angeles:20260422T200000
LOCATION:https://www.learndesk.us/class/5272393545154560/lesson/46f167db6a1bf2a60f66f1296b5070bb?ref=outlook-calendar
DESCRIPTION: 
In this section, we’ll learn databases in Python and Milestone.

Intro to Milestone Project 2
Milestone Project with lists
Storing books in files
Using JSON instead of CSV
Intro to databases with Python
Using SQLite in Python
Some database jargon
Creating our books table using Python
Inserting books using Python
SELECT examples
Getting all our books
UPDATE and DELETE
Filtering with WHERE
Finishing the Milestone Project
Ordering and limiting
Developing our context manager in Python
Errors in context managers



https://www.learndesk.us/class/5272393545154560/lesson/46f167db6a1bf2a60f66f1296b5070bb?ref=outlook-calendar
STATUS:CONFIRMED
SEQUENCE:3
BEGIN:VALARM
TRIGGER:-PT10M
DESCRIPTION:Class Reminder
ACTION:DISPLAY
END:VALARM
END:VEVENT
END:VCALENDAR