BEGIN:VCALENDAR
VERSION:2.0
CALSCALE:GREGORIAN
BEGIN:VEVENT
URL:https://www.learndesk.us/class/5272393545154560/lesson/3f6cc8dbcef1c48a417b569d68979e03?ref=outlook-calendar
SUMMARY:Interacting with APIs with Python
DTSTART;TZID=America/Los_Angeles:20260422T190000
DTEND;TZID=America/Los_Angeles:20260422T200000
LOCATION:https://www.learndesk.us/class/5272393545154560/lesson/3f6cc8dbcef1c48a417b569d68979e03?ref=outlook-calendar
DESCRIPTION: 
In this section, we’ll learn to Interact with APIs with Python.

Signing up to OpenExchangeRates
Getting all exchange rates from the API
Creating a currency exchange library
Caching functions with functools
TTL caches with cachetools



https://www.learndesk.us/class/5272393545154560/lesson/3f6cc8dbcef1c48a417b569d68979e03?ref=outlook-calendar
STATUS:CONFIRMED
SEQUENCE:3
BEGIN:VALARM
TRIGGER:-PT10M
DESCRIPTION:Class Reminder
ACTION:DISPLAY
END:VALARM
END:VEVENT
END:VCALENDAR