BEGIN:VCALENDAR
VERSION:2.0
CALSCALE:GREGORIAN
BEGIN:VEVENT
URL:https://www.learndesk.us/class/5272393545154560/lesson/38d798a9f472beea7a5c03b4d428b330?ref=outlook-calendar
SUMMARY:GUI Development with Tkinter
DTSTART;TZID=America/Los_Angeles:20260422T190000
DTEND;TZID=America/Los_Angeles:20260422T200000
LOCATION:https://www.learndesk.us/class/5272393545154560/lesson/38d798a9f472beea7a5c03b4d428b330?ref=outlook-calendar
DESCRIPTION: 
In this section, we’ll learn about GUI Development with Tkinter.

Setting up Tkinter
Hello world in Tkinter
Labels and fields
Packing components
Using frames for different layouts
Starting our text editor project
Tkinter notebooks and creating files
Adding a menu to our application
Saving files to disk
Opening files
Binding shortcuts in Tkinter
Checking our tabs for unsaved changes
Confirming exit with unsaved changes
Closing individual tabs
Adding another menu
Adding a permanent scrollbar to our text area



https://www.learndesk.us/class/5272393545154560/lesson/38d798a9f472beea7a5c03b4d428b330?ref=outlook-calendar
STATUS:CONFIRMED
SEQUENCE:3
BEGIN:VALARM
TRIGGER:-PT10M
DESCRIPTION:Class Reminder
ACTION:DISPLAY
END:VALARM
END:VEVENT
END:VCALENDAR