BEGIN:VCALENDAR
VERSION:2.0
CALSCALE:GREGORIAN
BEGIN:VEVENT
URL:https://www.learndesk.us/class/5272393545154560/lesson/3671d5a28d6d7d76c427f00ba16fc50b?ref=outlook-calendar
SUMMARY:Books Project 12: Adding Logging to Our Python Project
DTSTART;TZID=America/Los_Angeles:20260422T190000
DTEND;TZID=America/Los_Angeles:20260422T200000
LOCATION:https://www.learndesk.us/class/5272393545154560/lesson/3671d5a28d6d7d76c427f00ba16fc50b?ref=outlook-calendar
DESCRIPTION: https://www.learndesk.us/class/5272393545154560/lesson/3671d5a28d6d7d76c427f00ba16fc50b?ref=outlook-calendar
STATUS:CONFIRMED
SEQUENCE:3
BEGIN:VALARM
TRIGGER:-PT10M
DESCRIPTION:Class Reminder
ACTION:DISPLAY
END:VALARM
END:VEVENT
END:VCALENDAR