BEGIN:VCALENDAR
VERSION:2.0
CALSCALE:GREGORIAN
BEGIN:VEVENT
URL:https://www.learndesk.us/class/5272393545154560/lesson/2f70cf03aac4461af55b0c62869632eb?ref=outlook-calendar
SUMMARY:Advanced Object-Oriented Programming
DTSTART;TZID=America/Los_Angeles:20260422T190000
DTEND;TZID=America/Los_Angeles:20260422T200000
LOCATION:https://www.learndesk.us/class/5272393545154560/lesson/2f70cf03aac4461af55b0c62869632eb?ref=outlook-calendar
DESCRIPTION: 
In this section, we’ll learn about Advanced Object-Oriented Programming.

Advanced Object-Oriented Programming
Intro to ABCs in Python
Intro to ABCs in Python
The relationship between ABCs and interfaces
The property setter in Python



https://www.learndesk.us/class/5272393545154560/lesson/2f70cf03aac4461af55b0c62869632eb?ref=outlook-calendar
STATUS:CONFIRMED
SEQUENCE:3
BEGIN:VALARM
TRIGGER:-PT10M
DESCRIPTION:Class Reminder
ACTION:DISPLAY
END:VALARM
END:VEVENT
END:VCALENDAR