BEGIN:VCALENDAR
VERSION:2.0
CALSCALE:GREGORIAN
BEGIN:VEVENT
URL:https://www.learndesk.us/class/5272393545154560/lesson/2975cf5e68f609fca229a4b166906306?ref=outlook-calendar
SUMMARY:Errors in Python
DTSTART;TZID=America/Los_Angeles:20260422T190000
DTEND;TZID=America/Los_Angeles:20260422T200000
LOCATION:https://www.learndesk.us/class/5272393545154560/lesson/2975cf5e68f609fca229a4b166906306?ref=outlook-calendar
DESCRIPTION: 
In this section, we’ll see Errors in Python.

Intro to errors in Python
Built in errors in Python
Raising errors in Python
Creating our own errors in Python
Dealing with Python errors
The on-success block and re-raising exceptions
Debugging with Pycharm



https://www.learndesk.us/class/5272393545154560/lesson/2975cf5e68f609fca229a4b166906306?ref=outlook-calendar
STATUS:CONFIRMED
SEQUENCE:3
BEGIN:VALARM
TRIGGER:-PT10M
DESCRIPTION:Class Reminder
ACTION:DISPLAY
END:VALARM
END:VEVENT
END:VCALENDAR