BEGIN:VCALENDAR
VERSION:2.0
CALSCALE:GREGORIAN
BEGIN:VEVENT
URL:https://www.learndesk.us/class/5272393545154560/lesson/28fa30a0ef8e0759d4556c3f60ef4f47?ref=outlook-calendar
SUMMARY:Type Hinting in Python
DTSTART;TZID=America/Los_Angeles:20260424T190000
DTEND;TZID=America/Los_Angeles:20260424T200000
LOCATION:https://www.learndesk.us/class/5272393545154560/lesson/28fa30a0ef8e0759d4556c3f60ef4f47?ref=outlook-calendar
DESCRIPTION: 
In this section, we’ll learn Type hinting in Python.

Typing in Python
Further reading



https://www.learndesk.us/class/5272393545154560/lesson/28fa30a0ef8e0759d4556c3f60ef4f47?ref=outlook-calendar
STATUS:CONFIRMED
SEQUENCE:3
BEGIN:VALARM
TRIGGER:-PT10M
DESCRIPTION:Class Reminder
ACTION:DISPLAY
END:VALARM
END:VEVENT
END:VCALENDAR