BEGIN:VCALENDAR
VERSION:2.0
CALSCALE:GREGORIAN
BEGIN:VEVENT
URL:https://www.learndesk.us/class/5272393545154560/lesson/12c8aa729d7aa23581c7ea928a82be9b?ref=outlook-calendar
SUMMARY:Object-Oriented Programming with Python
DTSTART;TZID=America/Los_Angeles:20260423T190000
DTEND;TZID=America/Los_Angeles:20260423T200000
LOCATION:https://www.learndesk.us/class/5272393545154560/lesson/12c8aa729d7aa23581c7ea928a82be9b?ref=outlook-calendar
DESCRIPTION: 
In this section, we’ll learn about Object-Oriented Programming with Python.

Intro to Object-Oriented Programming with Python
More about classes and objects
Parameter naming in Python
Magic methods in Python
Inheritance in Python
The @property decorator
@classmethod and @staticmethod in Python
More @classmethod and @staticmethod examples



https://www.learndesk.us/class/5272393545154560/lesson/12c8aa729d7aa23581c7ea928a82be9b?ref=outlook-calendar
STATUS:CONFIRMED
SEQUENCE:3
BEGIN:VALARM
TRIGGER:-PT10M
DESCRIPTION:Class Reminder
ACTION:DISPLAY
END:VALARM
END:VEVENT
END:VCALENDAR