BEGIN:VCALENDAR
VERSION:2.0
CALSCALE:GREGORIAN
BEGIN:VEVENT
URL:https://www.learndesk.us/class/5272393545154560/lesson/1184e95c8c6f1ba46e3265d2110fdd15?ref=outlook-calendar
SUMMARY:Interacting with Dropdowns
DTSTART;TZID=America/Los_Angeles:20260422T190000
DTEND;TZID=America/Los_Angeles:20260422T200000
LOCATION:https://www.learndesk.us/class/5272393545154560/lesson/1184e95c8c6f1ba46e3265d2110fdd15?ref=outlook-calendar
DESCRIPTION: https://www.learndesk.us/class/5272393545154560/lesson/1184e95c8c6f1ba46e3265d2110fdd15?ref=outlook-calendar
STATUS:CONFIRMED
SEQUENCE:3
BEGIN:VALARM
TRIGGER:-PT10M
DESCRIPTION:Class Reminder
ACTION:DISPLAY
END:VALARM
END:VEVENT
END:VCALENDAR