BEGIN:VCALENDAR
VERSION:2.0
CALSCALE:GREGORIAN
BEGIN:VEVENT
URL:https://www.learndesk.us/class/5272393545154560/the-complete-python-course?ref=outlook-calendar
SUMMARY:The Complete Python Course
DTSTART;TZID=America/Los_Angeles:20260422T190000
DTEND;TZID=America/Los_Angeles:20260422T200000
LOCATION:https://www.learndesk.us/class/5272393545154560/the-complete-python-course?ref=outlook-calendar
DESCRIPTION: 
With its increasing popularity in the last few years, the demand for Python skills in the job market is booming. Equipped with Python skills, you can easily enter some of the most exciting industries, including data science, web applications, and home automation.
In this course, you’ll learn Python by building impressive applications. The course starts with an introduction to Python, covering the basics and the installation process. As you advance, you’ll understand all about the inner workings of Python and write professional-grade code to develop applications by following the principles of Python and object-oriented programming (OOP). 
Once you've got to grips with the fundamentals, you’ll delve into advanced Python concepts such as handling databases in Python, web development, and web scraping. You’ll also interact with APIs and learn advanced OOP concepts and GUI development with Tkinter. Toward the end, you’ll perform unit testing, learn about algorithms, data structures,...

https://www.learndesk.us/class/5272393545154560/the-complete-python-course?ref=outlook-calendar
STATUS:CONFIRMED
SEQUENCE:3
BEGIN:VALARM
TRIGGER:-PT10M
DESCRIPTION:Class Reminder
ACTION:DISPLAY
END:VALARM
END:VEVENT
END:VCALENDAR