BEGIN:VCALENDAR
VERSION:2.0
CALSCALE:GREGORIAN
BEGIN:VEVENT
URL:https://www.learndesk.us/class/5271819248467968/lesson/f004a41cbce2197a8d077ab0e516382b?ref=outlook-calendar
SUMMARY:Resource for assignment
DTSTART;TZID=America/Los_Angeles:20260420T190000
DTEND;TZID=America/Los_Angeles:20260420T200000
LOCATION:https://www.learndesk.us/class/5271819248467968/lesson/f004a41cbce2197a8d077ab0e516382b?ref=outlook-calendar
DESCRIPTION: This is one of the possible resources that could help you in answering the assignment

https://www.learndesk.us/class/5271819248467968/lesson/f004a41cbce2197a8d077ab0e516382b?ref=outlook-calendar
STATUS:CONFIRMED
SEQUENCE:3
BEGIN:VALARM
TRIGGER:-PT10M
DESCRIPTION:Class Reminder
ACTION:DISPLAY
END:VALARM
END:VEVENT
END:VCALENDAR