BEGIN:VCALENDAR
VERSION:2.0
CALSCALE:GREGORIAN
BEGIN:VEVENT
URL:https://www.learndesk.us/class/5271819248467968/lesson/efceef15e2509385eb4da0fee3427335?ref=outlook-calendar
SUMMARY:ASP.NET Core - An Introduction
DTSTART;TZID=America/Los_Angeles:20260420T190000
DTEND;TZID=America/Los_Angeles:20260420T200000
LOCATION:https://www.learndesk.us/class/5271819248467968/lesson/efceef15e2509385eb4da0fee3427335?ref=outlook-calendar
DESCRIPTION: This section gives an introduction to ASP.NET Core, the motivation for its evolution and highlights and features.

https://www.learndesk.us/class/5271819248467968/lesson/efceef15e2509385eb4da0fee3427335?ref=outlook-calendar
STATUS:CONFIRMED
SEQUENCE:3
BEGIN:VALARM
TRIGGER:-PT10M
DESCRIPTION:Class Reminder
ACTION:DISPLAY
END:VALARM
END:VEVENT
END:VCALENDAR