BEGIN:VCALENDAR
VERSION:2.0
CALSCALE:GREGORIAN
BEGIN:VEVENT
URL:https://www.learndesk.us/class/5271819248467968/lesson/e438f26db9b3633fa270722eb908d468?ref=outlook-calendar
SUMMARY:Add a Class Library Project for Data Access Layer
DTSTART;TZID=America/Los_Angeles:20260420T190000
DTEND;TZID=America/Los_Angeles:20260420T200000
LOCATION:https://www.learndesk.us/class/5271819248467968/lesson/e438f26db9b3633fa270722eb908d468?ref=outlook-calendar
DESCRIPTION: This lecture shows how to add a Class Library project to the solution to create a data access layer. Students will know the process to add another project to an existing solution.

https://www.learndesk.us/class/5271819248467968/lesson/e438f26db9b3633fa270722eb908d468?ref=outlook-calendar
STATUS:CONFIRMED
SEQUENCE:3
BEGIN:VALARM
TRIGGER:-PT10M
DESCRIPTION:Class Reminder
ACTION:DISPLAY
END:VALARM
END:VEVENT
END:VCALENDAR