BEGIN:VCALENDAR
VERSION:2.0
CALSCALE:GREGORIAN
BEGIN:VEVENT
URL:https://www.learndesk.us/class/5271819248467968/lesson/ccedff2308521c10b8ee9cd7659b54e0?ref=outlook-calendar
SUMMARY:Edit the Index() Action Method in the Home Controller
DTSTART;TZID=America/Los_Angeles:20260420T190000
DTEND;TZID=America/Los_Angeles:20260420T200000
LOCATION:https://www.learndesk.us/class/5271819248467968/lesson/ccedff2308521c10b8ee9cd7659b54e0?ref=outlook-calendar
DESCRIPTION: This lecture shows how to edit the Index action method to use the Customer Repository. The students will learn how to write the asynchronous action method in this ASP.NET Core 3 application with the await keyword. Asynchronous programming is the pillar of any ASP.NET Core application.

https://www.learndesk.us/class/5271819248467968/lesson/ccedff2308521c10b8ee9cd7659b54e0?ref=outlook-calendar
STATUS:CONFIRMED
SEQUENCE:3
BEGIN:VALARM
TRIGGER:-PT10M
DESCRIPTION:Class Reminder
ACTION:DISPLAY
END:VALARM
END:VEVENT
END:VCALENDAR