BEGIN:VCALENDAR
VERSION:2.0
CALSCALE:GREGORIAN
BEGIN:VEVENT
URL:https://www.learndesk.us/class/5271819248467968/lesson/cc851b7b373f9046058f308644ae0eac?ref=outlook-calendar
SUMMARY:Highlights and Features of ASP.NET Core
DTSTART;TZID=America/Los_Angeles:20260422T190000
DTEND;TZID=America/Los_Angeles:20260422T200000
LOCATION:https://www.learndesk.us/class/5271819248467968/lesson/cc851b7b373f9046058f308644ae0eac?ref=outlook-calendar
DESCRIPTION: This lecture details the highlights and special features of the ASP.NET Core web platform. The students will appreciate the need to involve with this modern, cross-platform and open source technology which is bound to be the future of web development.

https://www.learndesk.us/class/5271819248467968/lesson/cc851b7b373f9046058f308644ae0eac?ref=outlook-calendar
STATUS:CONFIRMED
SEQUENCE:3
BEGIN:VALARM
TRIGGER:-PT10M
DESCRIPTION:Class Reminder
ACTION:DISPLAY
END:VALARM
END:VEVENT
END:VCALENDAR