BEGIN:VCALENDAR
VERSION:2.0
CALSCALE:GREGORIAN
BEGIN:VEVENT
URL:https://www.learndesk.us/class/5271819248467968/lesson/ca5d16947899406f96569655ef79c86b?ref=outlook-calendar
SUMMARY:Test the Completed ASP.NET Core 3 MVC Application
DTSTART;TZID=America/Los_Angeles:20260420T190000
DTEND;TZID=America/Los_Angeles:20260420T200000
LOCATION:https://www.learndesk.us/class/5271819248467968/lesson/ca5d16947899406f96569655ef79c86b?ref=outlook-calendar
DESCRIPTION: This lecture shows how the application is run and tested with test data for checking all the CRUD functionalities. The students will be able to test the application for completeness after completing the lecture.

https://www.learndesk.us/class/5271819248467968/lesson/ca5d16947899406f96569655ef79c86b?ref=outlook-calendar
STATUS:CONFIRMED
SEQUENCE:3
BEGIN:VALARM
TRIGGER:-PT10M
DESCRIPTION:Class Reminder
ACTION:DISPLAY
END:VALARM
END:VEVENT
END:VCALENDAR