BEGIN:VCALENDAR
VERSION:2.0
CALSCALE:GREGORIAN
BEGIN:VEVENT
URL:https://www.learndesk.us/class/5271819248467968/lesson/b9d912eab7e44d44bda848049c157b33?ref=outlook-calendar
SUMMARY:Couple of Important MongoDB Concepts to Remember
DTSTART;TZID=America/Los_Angeles:20260420T190000
DTEND;TZID=America/Los_Angeles:20260420T200000
LOCATION:https://www.learndesk.us/class/5271819248467968/lesson/b9d912eab7e44d44bda848049c157b33?ref=outlook-calendar
DESCRIPTION: This lecture emphasizes on two most important concepts:

 1) The demonstration of handling unstructured data (documents that have a different set of properties than other documents in a given collection)
2) Auto-generated ObjectId in MongoDB

https://www.learndesk.us/class/5271819248467968/lesson/b9d912eab7e44d44bda848049c157b33?ref=outlook-calendar
STATUS:CONFIRMED
SEQUENCE:3
BEGIN:VALARM
TRIGGER:-PT10M
DESCRIPTION:Class Reminder
ACTION:DISPLAY
END:VALARM
END:VEVENT
END:VCALENDAR