BEGIN:VCALENDAR
VERSION:2.0
CALSCALE:GREGORIAN
BEGIN:VEVENT
URL:https://www.learndesk.us/class/5271819248467968/lesson/b5833ae78f53a617d939d03da4ee607a?ref=outlook-calendar
SUMMARY:Create a CustomerRepository that Implements the ICustomerRepository Interface
DTSTART;TZID=America/Los_Angeles:20260420T190000
DTEND;TZID=America/Los_Angeles:20260420T200000
LOCATION:https://www.learndesk.us/class/5271819248467968/lesson/b5833ae78f53a617d939d03da4ee607a?ref=outlook-calendar
DESCRIPTION: This lecture walks through the creation of a CustomerRepository that implements the interface created earlier.

https://www.learndesk.us/class/5271819248467968/lesson/b5833ae78f53a617d939d03da4ee607a?ref=outlook-calendar
STATUS:CONFIRMED
SEQUENCE:3
BEGIN:VALARM
TRIGGER:-PT10M
DESCRIPTION:Class Reminder
ACTION:DISPLAY
END:VALARM
END:VEVENT
END:VCALENDAR