BEGIN:VCALENDAR
VERSION:2.0
CALSCALE:GREGORIAN
BEGIN:VEVENT
URL:https://www.learndesk.us/class/5271819248467968/lesson/ac313f2ee2d02d8b5d2ae6c66370cb8c?ref=outlook-calendar
SUMMARY:Create the Update View to Update a Customer
DTSTART;TZID=America/Los_Angeles:20260420T190000
DTEND;TZID=America/Los_Angeles:20260420T200000
LOCATION:https://www.learndesk.us/class/5271819248467968/lesson/ac313f2ee2d02d8b5d2ae6c66370cb8c?ref=outlook-calendar
DESCRIPTION: In this lesson, the tutor walks through the process and creates the Update view to update an existing customer to the database. The users see an updated view of the browser.

https://www.learndesk.us/class/5271819248467968/lesson/ac313f2ee2d02d8b5d2ae6c66370cb8c?ref=outlook-calendar
STATUS:CONFIRMED
SEQUENCE:3
BEGIN:VALARM
TRIGGER:-PT10M
DESCRIPTION:Class Reminder
ACTION:DISPLAY
END:VALARM
END:VEVENT
END:VCALENDAR