BEGIN:VCALENDAR
VERSION:2.0
CALSCALE:GREGORIAN
BEGIN:VEVENT
URL:https://www.learndesk.us/class/5271819248467968/lesson/a12b35e498a535a6d80369a9b77c7912?ref=outlook-calendar
SUMMARY:Hands-on Building the MVC Application Further till Completion
DTSTART;TZID=America/Los_Angeles:20260420T190000
DTEND;TZID=America/Los_Angeles:20260420T200000
LOCATION:https://www.learndesk.us/class/5271819248467968/lesson/a12b35e498a535a6d80369a9b77c7912?ref=outlook-calendar
DESCRIPTION: At the end of this section, the students would have completed building and testing the ASP.NET Core 3 MVC application created in the previous section.

https://www.learndesk.us/class/5271819248467968/lesson/a12b35e498a535a6d80369a9b77c7912?ref=outlook-calendar
STATUS:CONFIRMED
SEQUENCE:3
BEGIN:VALARM
TRIGGER:-PT10M
DESCRIPTION:Class Reminder
ACTION:DISPLAY
END:VALARM
END:VEVENT
END:VCALENDAR