BEGIN:VCALENDAR
VERSION:2.0
CALSCALE:GREGORIAN
BEGIN:VEVENT
URL:https://www.learndesk.us/class/5271819248467968/lesson/9f8eb8fac2da7183742c33742328ef95?ref=outlook-calendar
SUMMARY:How to Configure the MongoDB Settings?
DTSTART;TZID=America/Los_Angeles:20260420T190000
DTEND;TZID=America/Los_Angeles:20260420T200000
LOCATION:https://www.learndesk.us/class/5271819248467968/lesson/9f8eb8fac2da7183742c33742328ef95?ref=outlook-calendar
DESCRIPTION: This lecture shows the students the process of setting up the appsettings.json file to access the MongoDB database. The students will be able to configure the ConnectionString and Database after completing this lecture

https://www.learndesk.us/class/5271819248467968/lesson/9f8eb8fac2da7183742c33742328ef95?ref=outlook-calendar
STATUS:CONFIRMED
SEQUENCE:3
BEGIN:VALARM
TRIGGER:-PT10M
DESCRIPTION:Class Reminder
ACTION:DISPLAY
END:VALARM
END:VEVENT
END:VCALENDAR