BEGIN:VCALENDAR
VERSION:2.0
CALSCALE:GREGORIAN
BEGIN:VEVENT
URL:https://www.learndesk.us/class/5271819248467968/lesson/9189daeb81cddeec60a0fc9bd7ddca79?ref=outlook-calendar
SUMMARY:Create an ICustomerRepository Interface
DTSTART;TZID=America/Los_Angeles:20260420T190000
DTEND;TZID=America/Los_Angeles:20260420T200000
LOCATION:https://www.learndesk.us/class/5271819248467968/lesson/9189daeb81cddeec60a0fc9bd7ddca79?ref=outlook-calendar
DESCRIPTION: This lecture shows the creation of an interface for implementing the repository pattern. The students will know how to create and add relevant members to an interface that will be implemented.

https://www.learndesk.us/class/5271819248467968/lesson/9189daeb81cddeec60a0fc9bd7ddca79?ref=outlook-calendar
STATUS:CONFIRMED
SEQUENCE:3
BEGIN:VALARM
TRIGGER:-PT10M
DESCRIPTION:Class Reminder
ACTION:DISPLAY
END:VALARM
END:VEVENT
END:VCALENDAR