BEGIN:VCALENDAR
VERSION:2.0
CALSCALE:GREGORIAN
BEGIN:VEVENT
URL:https://www.learndesk.us/class/5271819248467968/lesson/893bc060c9db87c8a7542296f55e05bf?ref=outlook-calendar
SUMMARY:Register Settings, Context and Repository Classes in the Startup class
DTSTART;TZID=America/Los_Angeles:20260420T190000
DTEND;TZID=America/Los_Angeles:20260420T200000
LOCATION:https://www.learndesk.us/class/5271819248467968/lesson/893bc060c9db87c8a7542296f55e05bf?ref=outlook-calendar
DESCRIPTION: This lecture shows how to register Settings, Context and Repository Classes in the Startup class for the ASP.NET Core MVC project. By the end of this lecture, the students will have a good idea of registering the various services through the ConfigureServices() method.

https://www.learndesk.us/class/5271819248467968/lesson/893bc060c9db87c8a7542296f55e05bf?ref=outlook-calendar
STATUS:CONFIRMED
SEQUENCE:3
BEGIN:VALARM
TRIGGER:-PT10M
DESCRIPTION:Class Reminder
ACTION:DISPLAY
END:VALARM
END:VEVENT
END:VCALENDAR