BEGIN:VCALENDAR
VERSION:2.0
CALSCALE:GREGORIAN
BEGIN:VEVENT
URL:https://www.learndesk.us/class/5271819248467968/lesson/87d916bd174e05c3e518e8e7c1e26ef5?ref=outlook-calendar
SUMMARY:Model-View-Controller Architecture Description
DTSTART;TZID=America/Los_Angeles:20260422T190000
DTEND;TZID=America/Los_Angeles:20260422T200000
LOCATION:https://www.learndesk.us/class/5271819248467968/lesson/87d916bd174e05c3e518e8e7c1e26ef5?ref=outlook-calendar
DESCRIPTION: This lesson covers the MVC architecture in detail with animations.  At the end of this lesson, the students will be able to appreciate the function of the controller, model, and views in an MVC application. They will be able to grasp the separation of concern concept which is the main feature of this design pattern.

https://www.learndesk.us/class/5271819248467968/lesson/87d916bd174e05c3e518e8e7c1e26ef5?ref=outlook-calendar
STATUS:CONFIRMED
SEQUENCE:3
BEGIN:VALARM
TRIGGER:-PT10M
DESCRIPTION:Class Reminder
ACTION:DISPLAY
END:VALARM
END:VEVENT
END:VCALENDAR