BEGIN:VCALENDAR
VERSION:2.0
CALSCALE:GREGORIAN
BEGIN:VEVENT
URL:https://www.learndesk.us/class/5271819248467968/lesson/87ad0c33ed09775366570da03a57ce3f?ref=outlook-calendar
SUMMARY:How to install MongoDb on the local machine?
DTSTART;TZID=America/Los_Angeles:20260420T190000
DTEND;TZID=America/Los_Angeles:20260420T200000
LOCATION:https://www.learndesk.us/class/5271819248467968/lesson/87ad0c33ed09775366570da03a57ce3f?ref=outlook-calendar
DESCRIPTION: This lecture discusses the procedure of installing the MongoDb server. It gives the links and details of the installation. The lecture discusses the importance of the mongod.exe and mongo.exe files.

https://www.learndesk.us/class/5271819248467968/lesson/87ad0c33ed09775366570da03a57ce3f?ref=outlook-calendar
STATUS:CONFIRMED
SEQUENCE:3
BEGIN:VALARM
TRIGGER:-PT10M
DESCRIPTION:Class Reminder
ACTION:DISPLAY
END:VALARM
END:VEVENT
END:VCALENDAR