BEGIN:VCALENDAR
VERSION:2.0
CALSCALE:GREGORIAN
BEGIN:VEVENT
URL:https://www.learndesk.us/class/5271819248467968/lesson/7973df07655fe7d90de7a82325b8612b?ref=outlook-calendar
SUMMARY:Asynchronous Programming Fundamentals
DTSTART;TZID=America/Los_Angeles:20260420T190000
DTEND;TZID=America/Los_Angeles:20260420T200000
LOCATION:https://www.learndesk.us/class/5271819248467968/lesson/7973df07655fe7d90de7a82325b8612b?ref=outlook-calendar
DESCRIPTION: This is a lecture that covers the fundamentals of asynchronous programming. Asynchronous programming is at the core of ASP.NET Core 3 so it is an essential concept to learn for streamlining the entry into the world of ASP.NET Core framework.

https://www.learndesk.us/class/5271819248467968/lesson/7973df07655fe7d90de7a82325b8612b?ref=outlook-calendar
STATUS:CONFIRMED
SEQUENCE:3
BEGIN:VALARM
TRIGGER:-PT10M
DESCRIPTION:Class Reminder
ACTION:DISPLAY
END:VALARM
END:VEVENT
END:VCALENDAR