BEGIN:VCALENDAR
VERSION:2.0
CALSCALE:GREGORIAN
BEGIN:VEVENT
URL:https://www.learndesk.us/class/5271819248467968/lesson/6c3c1e0ce1e7ba161b7d5b00302aebf4?ref=outlook-calendar
SUMMARY:Introduction
DTSTART;TZID=America/Los_Angeles:20260420T190000
DTEND;TZID=America/Los_Angeles:20260420T200000
LOCATION:https://www.learndesk.us/class/5271819248467968/lesson/6c3c1e0ce1e7ba161b7d5b00302aebf4?ref=outlook-calendar
DESCRIPTION: This is a video on the overview of the entire course. After watching this tutorial, the students will have a broad outlook of what to expect from the course.

https://www.learndesk.us/class/5271819248467968/lesson/6c3c1e0ce1e7ba161b7d5b00302aebf4?ref=outlook-calendar
STATUS:CONFIRMED
SEQUENCE:3
BEGIN:VALARM
TRIGGER:-PT10M
DESCRIPTION:Class Reminder
ACTION:DISPLAY
END:VALARM
END:VEVENT
END:VCALENDAR